BEGIN:VCALENDAR
VERSION:2.0
PRODID:-//ಮಿಲನ ಕನ್ನಡ ಕೂಟ (Milana Kannada Koota) - ECPv6.7.1//NONSGML v1.0//EN
CALSCALE:GREGORIAN
METHOD:PUBLISH
X-ORIGINAL-URL:https://www.milanaonline.org
X-WR-CALDESC:Events for ಮಿಲನ ಕನ್ನಡ ಕೂಟ (Milana Kannada Koota)
REFRESH-INTERVAL;VALUE=DURATION:PT1H
X-Robots-Tag:noindex
X-PUBLISHED-TTL:PT1H
BEGIN:VTIMEZONE
TZID:America/Chicago
BEGIN:DAYLIGHT
TZOFFSETFROM:-0600
TZOFFSETTO:-0500
TZNAME:CDT
DTSTART:20250309T080000
END:DAYLIGHT
BEGIN:STANDARD
TZOFFSETFROM:-0500
TZOFFSETTO:-0600
TZNAME:CST
DTSTART:20251102T070000
END:STANDARD
END:VTIMEZONE
BEGIN:VEVENT
DTSTART;TZID=America/Chicago:20251108T163000
DTEND;TZID=America/Chicago:20251108T210000
DTSTAMP:20260419T121007
CREATED:20251009T032321Z
LAST-MODIFIED:20251009T034334Z
UID:2901-1762619400-1762635600@www.milanaonline.org
SUMMARY:Milana Kannada Koota  Kannada Rajyostava and Deepavali Celebrations 2025
DESCRIPTION:We would like to invite you to Milana Kannada Koota Kannada Rajyostava and Deepavali Celebrations\n on Saturday\, November 8th 2025.We request your presence at the event and also please help us promote the event to others in and around Milwaukee. \nDISCOUNTED Ticket price till Oct 19th\, HURRY UP!!! \n\nOnline Payments for the event fees: Click here Pay online for the Deepavali 2025 Habba Fees \neVite to the event for RSVP: https://evite.me/TW2UnrxN57 \nSchedule: 4:30 PM to 9:30 PM \nFor cultural event Signups: https://evite.me/wevUWrh1uJ \nWe are looking for sponsors for this event. Various sponsorship options available on this page \nPlease support Milana Kannada Koota by attending and sharing with your other Kannada friends. \n \nWant to become a Milana member? Pay membership at ಸದಸ್ಯತ್ವ/MEMBERSHIP – ಮಿಲನ ಕನ್ನಡ ಕೂಟ (Milana Kannada Koota) (milanaonline.org) \nPayment can be sent via Zelle which will save money by avoiding PayPal fee. Use the Zelle QR code below this table to send the payment. Mention “Deepavali 2025 event fee” in the memo. Thanks (Scroll all the way down to buy tickets. \nSPONSORSHIP OPTIONS FOR THE DEEPAVALI EVENT \nGold and Platinum sponsors gets FREE admission to the Deepavali event (please don’t buy the event tickets if you are in this category of sponsorship). \nAlternatively sponsorship payment can be sent via Zelle which will save money to Milana by avoiding PayPal fee. Please scan following QR code on your phone to send money via Zelle or send to milana.treasurer@gmail.com 
URL:https://www.milanaonline.org/event/deepavali-2025/
LOCATION:Hindu Temple of Wisconsin\, N4063 W243 Pewaukee Rd\, Pewaukee\, WI\, 53072\, United States
CATEGORIES:MilanaCommittee
ORGANIZER;CN="Milana Committee":MAILTO:milanacommittee@gmail.com
END:VEVENT
END:VCALENDAR