BEGIN:VCALENDAR
VERSION:2.0
PRODID:-//ಮಿಲನ ಕನ್ನಡ ಕೂಟ (Milana Kannada Koota) - ECPv6.7.1//NONSGML v1.0//EN
CALSCALE:GREGORIAN
METHOD:PUBLISH
X-WR-CALNAME:ಮಿಲನ ಕನ್ನಡ ಕೂಟ (Milana Kannada Koota)
X-ORIGINAL-URL:https://www.milanaonline.org
X-WR-CALDESC:Events for ಮಿಲನ ಕನ್ನಡ ಕೂಟ (Milana Kannada Koota)
REFRESH-INTERVAL;VALUE=DURATION:PT1H
X-Robots-Tag:noindex
X-PUBLISHED-TTL:PT1H
BEGIN:VTIMEZONE
TZID:America/Chicago
BEGIN:DAYLIGHT
TZOFFSETFROM:-0600
TZOFFSETTO:-0500
TZNAME:CDT
DTSTART:20250309T080000
END:DAYLIGHT
BEGIN:STANDARD
TZOFFSETFROM:-0500
TZOFFSETTO:-0600
TZNAME:CST
DTSTART:20251102T070000
END:STANDARD
END:VTIMEZONE
BEGIN:VEVENT
DTSTART;TZID=America/Chicago:20250416T170000
DTEND;TZID=America/Chicago:20251023T203000
DTSTAMP:20260419T152519
CREATED:20250417T031646Z
LAST-MODIFIED:20251024T040617Z
UID:2706-1744822800-1761251400@www.milanaonline.org
SUMMARY:Milana Membership 2025
DESCRIPTION:Buy Milana Membership for 2025 here\n  Membership Closed for 2025 season\, please come back in April 2026 for 2026 memberships
URL:https://www.milanaonline.org/event/milana-membership-2025/
CATEGORIES:MilanaCommittee
ORGANIZER;CN="Milana Committee":MAILTO:milanacommittee@gmail.com
END:VEVENT
BEGIN:VEVENT
DTSTART;TZID=America/Chicago:20250907T103000
DTEND;TZID=America/Chicago:20250907T150000
DTSTAMP:20260419T152519
CREATED:20250822T033640Z
LAST-MODIFIED:20250822T033640Z
UID:2817-1757241000-1757257200@www.milanaonline.org
SUMMARY:Milana Ganesha Habba 2025
DESCRIPTION:ವಕ್ರತುಂಡ ಮಹಾಕಾಯ ಕೋಟಿಸೂರ್ಯ ಸಮಪ್ರಭ ನಿರ್ವಿಘ್ನಂ ಕುರು ಮೇ ದೇವ ಸರ್ವಕಾರ್ಯೇಷು ಸರ್ವದಾ || ಎಲ್ಲರಿಗೂ ಗೌರಿ ಗಣೇಶ ಹಬ್ಬದ ಶುಭಾಶಯಗಳು \nMilana Kannada Koota will celebrate Ganesha Chaturthi on Sunday 07 September 2025 at E.B Shurts Building\, Waukesha (810 W. College Avenue\, Waukesha\, WI 53186). Requesting everyone to attend and seek blessings of Gowri & Ganesha. \nEvite: Click here to view the evite\n Food sign-up for Ganesh Habba: Click here to view and signup for the potluck  (The event is free for families who bring the food per the signup sheet.) \nProgram schedule: \n10.30 am – 12pm am – Pooje \n12pm – 12.30 pm – Bhajane \n12.30pm – 1.30pm – Lunch (Provided by Milana Committee) \n1:30pm – 2pm – Ganesha Visarjane \n2pm -3pm – Wrap up \n\nNo Event fees for Sponsors families ( \nThe total amount displayed in the table below includes the PayPal transaction fee. You can also Zelle the fee to milana.treasurer@gmail.com with note GaneshaHabba2025. Also\, if you prefer check or Cash payment can be done at the front desk on the event day (online option is preferred). \n  \n 
URL:https://www.milanaonline.org/event/milana-ganesha-habba-2025/
LOCATION:E.B Shurts Building\, 810 W. College Avenue\, Waukesha\, WI\, 53186\, United States
CATEGORIES:MilanaCommittee
ORGANIZER;CN="Milana Committee":MAILTO:milanacommittee@gmail.com
END:VEVENT
BEGIN:VEVENT
DTSTART;TZID=America/Chicago:20250921T113000
DTEND;TZID=America/Chicago:20250921T133000
DTSTAMP:20260419T152519
CREATED:20250916T044051Z
LAST-MODIFIED:20250920T213502Z
UID:2849-1758454200-1758461400@www.milanaonline.org
SUMMARY:Medha Vidyabhushan 2025
DESCRIPTION:🌸 ಮಿಲನ ಕನ್ನಡ ಕೂಟ 🌸\nEllarigu Swagata! 🙏\n🎶 We warmly invite you to a soulful Carnatic music concert by\nVid. Medha Vidyabhushan \n📅 Date: Sunday\, September 21st\n🕙 Time: 11.30 AM – 1:30 PM\n📍 Venue: Hindu Temple of Wisconsin – W243N4063 Pewaukee Rd\, Pewaukee\, WI 53072 \n✨ ಬನ್ನಿ\, ಸಂಗೀತದ ಸುಂದರ ಲೋಕದಲ್ಲಿ ತೇಲಾಡಿ – ಒಂದು ನೆನಪಿನ ಬೆಳಿಗ್ಗೆ ನಿಮ್ಮನ್ನು ಕಾಯುತ್ತಿದೆ!  \nNo Event fees for Sponsoring families  \nThe total amount displayed in the table below includes the PayPal transaction fee. You can also Zelle the fee to milana.treasurer@gmail.com with note MedhaVidyabshan2025. Also\, if you prefer check or Cash payment can be done at the front desk on the event day (online option is preferred). \n  \n 
URL:https://www.milanaonline.org/event/milana-medha-vidyabhushan-2025/
LOCATION:Hindu Temple of Wisconsin\, N4063 W243 Pewaukee Rd\, Pewaukee\, WI\, 53072\, United States
CATEGORIES:MilanaCommittee
ORGANIZER;CN="Milana Committee":MAILTO:milanacommittee@gmail.com
END:VEVENT
END:VCALENDAR