BEGIN:VCALENDAR
VERSION:2.0
PRODID:-//ಮಿಲನ ಕನ್ನಡ ಕೂಟ (Milana Kannada Koota) - ECPv6.7.1//NONSGML v1.0//EN
CALSCALE:GREGORIAN
METHOD:PUBLISH
X-WR-CALNAME:ಮಿಲನ ಕನ್ನಡ ಕೂಟ (Milana Kannada Koota)
X-ORIGINAL-URL:https://www.milanaonline.org
X-WR-CALDESC:Events for ಮಿಲನ ಕನ್ನಡ ಕೂಟ (Milana Kannada Koota)
REFRESH-INTERVAL;VALUE=DURATION:PT1H
X-Robots-Tag:noindex
X-PUBLISHED-TTL:PT1H
BEGIN:VTIMEZONE
TZID:America/Chicago
BEGIN:DAYLIGHT
TZOFFSETFROM:-0600
TZOFFSETTO:-0500
TZNAME:CDT
DTSTART:20240310T080000
END:DAYLIGHT
BEGIN:STANDARD
TZOFFSETFROM:-0500
TZOFFSETTO:-0600
TZNAME:CST
DTSTART:20241103T070000
END:STANDARD
END:VTIMEZONE
BEGIN:VEVENT
DTSTART;TZID=America/Chicago:20241109T100000
DTEND;TZID=America/Chicago:20241109T130000
DTSTAMP:20260420T103705
CREATED:20241015T183524Z
LAST-MODIFIED:20241016T021914Z
UID:2510-1731146400-1731157200@www.milanaonline.org
SUMMARY:Asta Lakshmi Puja 2024
DESCRIPTION:“ಓಂ ಮಹಾಲಕ್ಷ್ಮೀ ಚ ವಿದ್ಮಹಿ ವಿಷ್ಣುಪತ್ನೀ ಚ ಧೀಮಹಿ ತನ್ನೋ ಲಕ್ಷ್ಮೀ ಪ್ರಚೋದಯಾತ್”\n“ॐ महालक्ष्मी च विद्महि विष्णुपत्नी च धीमहि तन्नो लक्ष्मी प्रचोदयात्” \nWe would like to invite you all you the Asta Lakshmi Puja  \nAs part of Deepavali celebrations\, we will be organizing “Astha Lakshmi Pooja” on Nov 9th 10 AM to 1 PM. During this event\, Priest Madhusudhan Bhatru will be performing pooja to main deity on the stage and individual families will be offering to prayer and kukumaarchana to Goddess Lakshmi.  \nWe will be arranging for table and chair for people who are not comfortable sitting on floor to offer the prayer. (Please let committee know).\n  \n\n \nನಿಮ್ಮ ಆಗಮನದ ನಿರೀಕ್ಷೆಯಲ್ಲಿ\, \nEvent Fees – $51 USD (using Zelle) +$3 USD processing fee on PayPal\nZelle to “milana.treasurer@gmail.com” with “Asta Lakshmi Puja 24” in notes \n \n\n\n                \n                    Lakshmi Puje 2024\n                \n                            \n                    \n        \n\n                        Lakshmi Puja Fees\n\n\n\n        \n            \n  \n  \n  \n  \n        \n            \n            \nIf you need to buy more than one ticket (with the options provided)\, you can select the option one at a time\, click Add to cart (opens PayPal page)\, re-visit the Milana page and then buy at once.  \n        \n    \n    \n                    \n                \n    \n    \n\n \n\n 
URL:https://www.milanaonline.org/event/asta-lakshmi-puja-2024/
LOCATION:Hindu Temple of Wisconsin\, N4063 W243 Pewaukee Rd\, Pewaukee\, WI\, 53072\, United States
CATEGORIES:MilanaCommittee
ORGANIZER;CN="Milana Committee":MAILTO:milanacommittee@gmail.com
END:VEVENT
BEGIN:VEVENT
DTSTART;TZID=America/Chicago:20241117T160000
DTEND;TZID=America/Chicago:20241117T210000
DTSTAMP:20260420T103705
CREATED:20241020T180049Z
LAST-MODIFIED:20241022T041129Z
UID:2544-1731859200-1731877200@www.milanaonline.org
SUMMARY:Milana Kannada Koota  Kannada Rajyostava and Deepavali Celebrations 2024
DESCRIPTION:We would like to invite you to Milana Kannada Koota Kannada Rajyostava and Deepavali Celebrations\n on Sunday\, November 17th 2024.We request your presence at the event and also please help us promote the event to others in and around Milwaukee. \nEvent Theme – “Naav pakka traditionallu”\, please wear traditional dresses to represent your origin place in Karnataka and stand a chance to WIN exciting prizes. \n\nOnline Payments for the event fees: Click here Pay online for the Deepavali 2024 Habba Fees \neVite to the event for RSVP: https://evite.me/H3TMjEZPye \nSchedule: 4:00 PM to 9:00 PM \nFor cultural event Signups: https://evite.me/ra1qRUCJvy \nWe are looking for sponsors for this event. Various sponsorships available.  Click here Pay for the sponsorship \nPlease support Milana Kannada Koota by attending and sharing with your other Kannada friends. \n \n \n \n  \nONLINE PAYMENT FOR THE EVENT \nWant to become a Milana member? Pay membership at ಸದಸ್ಯತ್ವ/MEMBERSHIP – ಮಿಲನ ಕನ್ನಡ ಕೂಟ (Milana Kannada Koota) (milanaonline.org) \nPayment can be sent via Zelle which will save money by avoiding PayPal fee. Use the Zelle QR code below this table to send the payment. Mention “Deepavali 2024 event fee” in the memo. Thanks (Scroll all the way down to buy tickets. \nSPONSORSHIP OPTIONS FOR THE DEEPAVALI EVENT \nGold and Platinum sponsors gets FREE admission to the Deepavali event (please don’t buy the event tickets if you are in this category of sponsorship). \nAlternatively sponsorship payment can be sent via Zelle which will save money to Milana by avoiding PayPal fee. Please scan following QR code on your phone to send money via Zelle or send to milana.treasurer@gmail.com 
URL:https://www.milanaonline.org/event/milana-kannada-koota-kannada-rajyostava-and-deepavali-celebrations-2024/
LOCATION:Hindu Temple of Wisconsin\, N4063 W243 Pewaukee Rd\, Pewaukee\, WI\, 53072\, United States
CATEGORIES:MilanaCommittee
ORGANIZER;CN="Milana Committee":MAILTO:milanacommittee@gmail.com
END:VEVENT
END:VCALENDAR