BEGIN:VCALENDAR
VERSION:2.0
PRODID:-//ಮಿಲನ ಕನ್ನಡ ಕೂಟ (Milana Kannada Koota) - ECPv6.7.1//NONSGML v1.0//EN
CALSCALE:GREGORIAN
METHOD:PUBLISH
X-WR-CALNAME:ಮಿಲನ ಕನ್ನಡ ಕೂಟ (Milana Kannada Koota)
X-ORIGINAL-URL:https://www.milanaonline.org
X-WR-CALDESC:Events for ಮಿಲನ ಕನ್ನಡ ಕೂಟ (Milana Kannada Koota)
REFRESH-INTERVAL;VALUE=DURATION:PT1H
X-Robots-Tag:noindex
X-PUBLISHED-TTL:PT1H
BEGIN:VTIMEZONE
TZID:America/Chicago
BEGIN:DAYLIGHT
TZOFFSETFROM:-0600
TZOFFSETTO:-0500
TZNAME:CDT
DTSTART:20240310T080000
END:DAYLIGHT
BEGIN:STANDARD
TZOFFSETFROM:-0500
TZOFFSETTO:-0600
TZNAME:CST
DTSTART:20241103T070000
END:STANDARD
END:VTIMEZONE
BEGIN:VEVENT
DTSTART;TZID=America/Chicago:20240811T103000
DTEND;TZID=America/Chicago:20240811T160000
DTSTAMP:20260420T161433
CREATED:20240716T013149Z
LAST-MODIFIED:20240809T163243Z
UID:2447-1723372200-1723392000@www.milanaonline.org
SUMMARY:Milana Summer Picnic 2024
DESCRIPTION:  \nEvite link: http://evite.me/mTA8JdxAwV
URL:https://www.milanaonline.org/event/milanapicnic2024/
LOCATION:Lions Park – Shelter 1\, 14900 W Overland trail\, New Berlin\, 53151\, United States
CATEGORIES:MilanaCommittee
END:VEVENT
BEGIN:VEVENT
DTSTART;TZID=America/Chicago:20240818T160000
DTEND;TZID=America/Chicago:20240818T200000
DTSTAMP:20260420T161433
CREATED:20240630T213024Z
LAST-MODIFIED:20240817T124140Z
UID:2399-1723996800-1724011200@www.milanaonline.org
SUMMARY:Milana Kannada Kooota Presents Yakshagana
DESCRIPTION:We would like to invite you all you the Yakshagana –  a traditional Indian theatre form! \nWe are excited to announce a never before seen event in Greater Milwaukee. The Yakshadruva Patla Foundation will perform an enchanting Yakshagana dance \n\n’ಯಕ್ಷಧ್ರುವ ಪಟ್ಲ ಫೌಂಡೇಶನ್ ಯು.ಎಸ್.ಎ.” ಸಂಸ್ಥೆಇಂದ ಕಾಣಿಕೆ – “ಯಕ್ಷ-ಗಾನ – ನಾಟ್ಯ ವೈಭವ” ಯಕ್ಷಧ್ರುವ ಶ್ರೀ ಪಟ್ಲ ಸತೀಶ್ ಶೆಟ್ಟಿ ನೇತೃತ್ವದ ಸುಪ್ರಸಿದ್ಧ ಕಲಾವಿದರಿಂದ. \nನೀವಲ್ಲರೂ ಬನ್ನಿ\, ನಿಮ್ಮವರನ್ನೂ ಕರೆತನ್ನಿ. ಕನ್ನಡಿಗರಲ್ಲದ ನಿಮ್ಮ ಸ್ನೇಹಿತರನ್ನೂ ಕರೆದುಕೊಂಡು ಬನ್ನಿ. ನಮ್ಮ ಕನ್ನಡದ ಸಾಂಕೃತಿಕ ವೈಭವದ ಪರಾಕಾಷ್ಠೆಯನ್ನು ಅವರಿಗೂ ಪರಿಚಯಿಸೋಣ ! ಯಕ್ಷಲೋಕದಲ್ಲಿ ವಿಹರಿಸೋಣ. \nನಿಮ್ಮ ಆಗಮನದ ನಿರೀಕ್ಷೆಯಲ್ಲಿ\, \nEvite link: http://evite.me/gJBcK9jBvx \nEvent Fees: Click here to pay event fee online \nSponsorship link: Click here to view the Sponsorship options \n \n  \n  \n\n\n                \n                \n                            \n                    \n        \n\n                        Yakshagana Sponsorship Options (Please select)\n\n\n\n        \n            \n  \n  \n  \n    \n      \n        \n        Yakshagana 2024 Sponsorship\n      \n    \n    \n      \n        \n          \n            Silver $251.00 USD\n          \n          \n            Bronze $101.00 USD\n          \n          \n            Gold $501.00 USD\n          \n          \n            Platinum $1\,001.00 USD\n          \n        \n      \n    \n  \n  \n  \n        \n    \n    \n                    \n                \n    \n    \n\n\n\n                \n                \n                            \n                    \n        \n\n                        Yakshagana Event Fee Options\n\n\n\n        \n             \n\n\n\n Yakshagana 2024 Members Paying Online\n\n\n\nMember Adult Online $10.00 USD\nMember Family $25.00 USD\n\n\n\n\n         \n            \n             \n\n\n\n Yakshagana 2024 Non-Member Paying Online\n\n\n\nNon Member Adult Online $15.00 USD\nNon Member Family Online $30.00 USD\n\n\n\n\n         \n            \n            At Gate PricesMember Adult At Gate: $15.00 USDMember Family At Gate: $30.00 USD__________________________________Non-Member Adult At Gate: $20.00 USDNon-Member Family At Gate: $35.00 USD        \n    \n    \n                    \n                                \n                \n    \n    \n\n\n 
URL:https://www.milanaonline.org/event/yakshagana2024/
LOCATION:Hindu Temple of Wisconsin\, N4063 W243 Pewaukee Rd\, Pewaukee\, WI\, 53072\, United States
CATEGORIES:MilanaCommittee
ORGANIZER;CN="Milana Committee":MAILTO:milanacommittee@gmail.com
END:VEVENT
BEGIN:VEVENT
DTSTART;TZID=America/Chicago:20240825T103000
DTEND;TZID=America/Chicago:20240825T140000
DTSTAMP:20260420T161433
CREATED:20240716T013626Z
LAST-MODIFIED:20240716T014033Z
UID:2451-1724581800-1724594400@www.milanaonline.org
SUMMARY:Shri Raghavendra Swami Aradhana 2024
DESCRIPTION:Evite Link: http://evite.me/1CFd8taxrB
URL:https://www.milanaonline.org/event/raghavendraaradhana2024/
LOCATION:Hindu Temple of Wisconsin\, N4063 W243 Pewaukee Rd\, Pewaukee\, WI\, 53072\, United States
CATEGORIES:MilanaMembers
END:VEVENT
END:VCALENDAR