BEGIN:VCALENDAR
VERSION:2.0
PRODID:-//ಮಿಲನ ಕನ್ನಡ ಕೂಟ (Milana Kannada Koota) - ECPv6.7.1//NONSGML v1.0//EN
CALSCALE:GREGORIAN
METHOD:PUBLISH
X-WR-CALNAME:ಮಿಲನ ಕನ್ನಡ ಕೂಟ (Milana Kannada Koota)
X-ORIGINAL-URL:https://www.milanaonline.org
X-WR-CALDESC:Events for ಮಿಲನ ಕನ್ನಡ ಕೂಟ (Milana Kannada Koota)
REFRESH-INTERVAL;VALUE=DURATION:PT1H
X-Robots-Tag:noindex
X-PUBLISHED-TTL:PT1H
BEGIN:VTIMEZONE
TZID:America/Chicago
BEGIN:DAYLIGHT
TZOFFSETFROM:-0600
TZOFFSETTO:-0500
TZNAME:CDT
DTSTART:20220313T080000
END:DAYLIGHT
BEGIN:STANDARD
TZOFFSETFROM:-0500
TZOFFSETTO:-0600
TZNAME:CST
DTSTART:20221106T070000
END:STANDARD
END:VTIMEZONE
BEGIN:VEVENT
DTSTART;TZID=America/Chicago:20221002T100000
DTEND;TZID=America/Chicago:20221002T150000
DTSTAMP:20260422T044223
CREATED:20220924T203242Z
LAST-MODIFIED:20220924T203336Z
UID:1956-1664704800-1664722800@www.milanaonline.org
SUMMARY:Ganesha Chathurthi Celebrations 2022
DESCRIPTION:|Om Ganeshaya namah|| \nMilana Kannada Koota presents Ganesha Habba 2022. \nTo kickstart the festive season\, Milana Kannada Koota will be organizing Ganesha Chaturthi celebrations 2022. \nSri. Raghuchandra Bhat (“Bhattru”) will be performing this pooja and an eco-friendly idol of Lord Ganapathi will be used for the pooja. There will be fun\, food\, devotion and a chance to meet lot of kannadigas in the milwaukee area. \nSponsorship options available are \nEvent sponsor- $501\, Platinum-$251 \nPooje sponsor – Gold– $101\, Silver-$51\, Archana-$15. \n  \nPlease make the payment using following provided options. \n\n                \n                \n                            \n                            \n                    \n        \n\n                                        Event SponsorPooje Sponsor\n\n\n\n        \n            \n\n\n\n\n\n\n\n        \n    \n    \n                    \n                \n    \n    \n\n\nA Potluck will be arranged for lunch. Click here to view the items and signup https://www.signupgenius.com/go/70A084FAFA923A3FB6-potluck1\n \nEntry free for members and non members \nDate and time : Sunday\, 02th October 2022\, 10 AM – 3 PM\nLocation : Wisconsin Shirdi Sai\, 111 Prospect Ave\, Pewaukee\, WI 53072\nPlease confirm your participation by signing up for the evite http://evite.me/8jCR2M3nUq Your RVSP will help us to plan the event better. \nThank you \nMilana Committee \n 
URL:https://www.milanaonline.org/event/ganesha-chathurthi-celebrations-2022/
LOCATION:Wisconsin Shirdi Sai Temple\, 111 Prospect Ave\, Pewaukee\, WI\, 53072\, United States
CATEGORIES:MilanaCommittee
ORGANIZER;CN="Milana Committee":MAILTO:milanacommittee@gmail.com
END:VEVENT
END:VCALENDAR