BEGIN:VCALENDAR
VERSION:2.0
PRODID:-//ಮಿಲನ ಕನ್ನಡ ಕೂಟ (Milana Kannada Koota) - ECPv6.7.1//NONSGML v1.0//EN
CALSCALE:GREGORIAN
METHOD:PUBLISH
X-ORIGINAL-URL:https://www.milanaonline.org
X-WR-CALDESC:Events for ಮಿಲನ ಕನ್ನಡ ಕೂಟ (Milana Kannada Koota)
REFRESH-INTERVAL;VALUE=DURATION:PT1H
X-Robots-Tag:noindex
X-PUBLISHED-TTL:PT1H
BEGIN:VTIMEZONE
TZID:America/Chicago
BEGIN:DAYLIGHT
TZOFFSETFROM:-0600
TZOFFSETTO:-0500
TZNAME:CDT
DTSTART:20210314T080000
END:DAYLIGHT
BEGIN:STANDARD
TZOFFSETFROM:-0500
TZOFFSETTO:-0600
TZNAME:CST
DTSTART:20211107T070000
END:STANDARD
END:VTIMEZONE
BEGIN:VEVENT
DTSTART;TZID=America/Chicago:20211009T103000
DTEND;TZID=America/Chicago:20211009T143000
DTSTAMP:20260423T044651
CREATED:20210923T184013Z
LAST-MODIFIED:20211004T212257Z
UID:1856-1633775400-1633789800@www.milanaonline.org
SUMMARY:Ganesha Chathurthi Celebrations 2021
DESCRIPTION:||Om Ganeshaya namah|| \nMilana Kannada  Koota presents Ganesha Habba 2021. \nTo kickstart the festive season\, Milana Kannada Koota will be organizing Ganesha Chaturthi celebrations 2021. This would be our first in-person event after Covid disrupted all our lives since early 2020. \nSri. Raghuchandra Bhat (“Bhattru”) will be performing this pooja and an eco-friendly idol of Lord Ganapathi will be used for the pooja. There will be fun\, food\, devotion and a chance to meet lot of kannadigas in the milwaukee area. \nSponsorship options available are $51\, $101\, $251. Archana tickets can be bought for $15. \nPlease make the payment using following provided options. \n\n                \n                \n                            \n                            \n                    \n        \n\n                                        Ganesha Habba Archane FeeGanesha Habba Sponsorship\n\n\n\n        \n            \n\n\n\nPrices\n	Archane Ticket $15.00 USD\n \n\n\n\n\n\n\n\n\nPrices\n	$51 Sponsorship $51.00 USD\n	$101 Sponsorship $101.00 USD\n	$251 Sponsorship $251.00 USD\n \n\n\n\n\n        \n    \n    \n                    \n                \n    \n    \n\n\nA Potluck will be arranged for lunch. Click here to view the items and signup https://www.signupgenius.com/go/70a084fafa923a3fb6-potluck\n \nEntry free for members and non members \nDate and time : 09th October 2021\nPooje : 10 AM – 12 PM\nLunch: 12:30 PM – 2 PM (Potluck)\nLocation : Wisconsin Shirdi Sai\, 111 Prospect Ave\, Pewaukee\, WI 53072\nPlease confirm your participation by signing up for the evite.Your RVSP will help us to plan the event better. \nhttps://www.evite.com/event/0279G73OKZJYXMUEKEPMDPZV73QXOA/rsvp \nThank you \nMilana Committee \n 
URL:https://www.milanaonline.org/event/ganesha-chathurthi-celebrations-2021/
LOCATION:Wisconsin Shirdi Sai Temple\, 111 Prospect Ave\, Pewaukee\, WI\, 53072\, United States
CATEGORIES:MilanaCommittee
ORGANIZER;CN="Milana Committee":MAILTO:milanacommittee@gmail.com
END:VEVENT
END:VCALENDAR