BEGIN:VCALENDAR
VERSION:2.0
PRODID:-//ಮಿಲನ ಕನ್ನಡ ಕೂಟ (Milana Kannada Koota) - ECPv6.7.1//NONSGML v1.0//EN
CALSCALE:GREGORIAN
METHOD:PUBLISH
X-WR-CALNAME:ಮಿಲನ ಕನ್ನಡ ಕೂಟ (Milana Kannada Koota)
X-ORIGINAL-URL:https://www.milanaonline.org
X-WR-CALDESC:Events for ಮಿಲನ ಕನ್ನಡ ಕೂಟ (Milana Kannada Koota)
REFRESH-INTERVAL;VALUE=DURATION:PT1H
X-Robots-Tag:noindex
X-PUBLISHED-TTL:PT1H
BEGIN:VTIMEZONE
TZID:America/Chicago
BEGIN:DAYLIGHT
TZOFFSETFROM:-0600
TZOFFSETTO:-0500
TZNAME:CDT
DTSTART:20210314T080000
END:DAYLIGHT
BEGIN:STANDARD
TZOFFSETFROM:-0500
TZOFFSETTO:-0600
TZNAME:CST
DTSTART:20211107T070000
END:STANDARD
END:VTIMEZONE
BEGIN:VEVENT
DTSTART;TZID=America/Chicago:20210213T180000
DTEND;TZID=America/Chicago:20210213T193000
DTSTAMP:20260423T174818
CREATED:20210213T135440Z
LAST-MODIFIED:20210213T135658Z
UID:1812-1613239200-1613244600@www.milanaonline.org
SUMMARY:Bharat FM Jaya Bharata Jananiya Tanujaate Kannada Program
DESCRIPTION:Dear Milana Members\, \nBharat FM has invited Milana Kannada Koota to participate in their Jaya Bharata Jananiya Tanujate video show.\nBharat – FM a multilingual\, eclectic news\, entertainment and information provider serving Indian Americans as well as a wider Indian diaspora worldwide). \nAs a part of this show\, we will be having the cultural programs by our younger Milana Kannada Koota members\, who will be performing in this show. \nThis will be followed by discussion with founders and the initial members of Milana Kannada Koota\nDr. Shivaram & Mrs.Prashanti\,\nDr Shetty & Mrs. Vasanti\,\nDr. Gopal\, Dr. Manoli\,\nDr. Muni Reddy\, Mrs. Shanta Jhansale\,\nDr Thim and Dr. Usha Nanda\non a talk session where they will be sharing their experiences and history of Milana Kannada Koota and Milwaukee. \nLooking forward to having you guys tune in and enjoy the event. \nThank you \nMilana Committee \n 
URL:https://www.milanaonline.org/event/bharat-fm-jaya-bharata-jananiya-tanujaate-kannada-program/
LOCATION:https://www.facebook.com/events/3111844479042644/
ORGANIZER;CN="Milana Committee":MAILTO:milanacommittee@gmail.com
END:VEVENT
END:VCALENDAR