BEGIN:VCALENDAR
VERSION:2.0
PRODID:-//ಮಿಲನ ಕನ್ನಡ ಕೂಟ (Milana Kannada Koota) - ECPv6.7.1//NONSGML v1.0//EN
CALSCALE:GREGORIAN
METHOD:PUBLISH
X-WR-CALNAME:ಮಿಲನ ಕನ್ನಡ ಕೂಟ (Milana Kannada Koota)
X-ORIGINAL-URL:https://www.milanaonline.org
X-WR-CALDESC:Events for ಮಿಲನ ಕನ್ನಡ ಕೂಟ (Milana Kannada Koota)
REFRESH-INTERVAL;VALUE=DURATION:PT1H
X-Robots-Tag:noindex
X-PUBLISHED-TTL:PT1H
BEGIN:VTIMEZONE
TZID:America/Chicago
BEGIN:DAYLIGHT
TZOFFSETFROM:-0600
TZOFFSETTO:-0500
TZNAME:CDT
DTSTART:20180311T080000
END:DAYLIGHT
BEGIN:STANDARD
TZOFFSETFROM:-0500
TZOFFSETTO:-0600
TZNAME:CST
DTSTART:20181104T070000
END:STANDARD
END:VTIMEZONE
BEGIN:VEVENT
DTSTART;TZID=America/Chicago:20181208T160000
DTEND;TZID=America/Chicago:20181208T210000
DTSTAMP:20260420T082535
CREATED:20181005T183544Z
LAST-MODIFIED:20181208T165326Z
UID:1023-1544284800-1544302800@www.milanaonline.org
SUMMARY:Milana Deepavali 2018
DESCRIPTION:ಎಲ್ಲರಿಗೂ ದೀಪಾವಳಿ ಹಬ್ಬಕ್ಕೆ ಆತ್ಮೀಯ ಸ್ವಾಗತ!!  \nInviting everyone to Milana Deepavali habba on 08 December 2018. We look forward Milana families to participating in great numbers for various programs (skits\, dance\, singing\, instruments etc) during this event. Evite to the ಮಿಲನ ದೀಪಾವಳಿ ೨೦೧೮: http://evite.me/ShjnXgag1b \nFor sponsorship please contact milanacommittee@gmail.com\nONLINE PAYMENT IS CLOSED NOW…YOU CAN STILL PAY USING CARD/CHECK/CASH AT THE GATE \nCULTURAL PROGRAM SIGNUP IS CLOSED NOW..HERE IS THE LIST OF THE PROGRAMS FOR THIS EVENING
URL:https://www.milanaonline.org/event/deepavali-2018/
LOCATION:Hindu Temple of Wisconsin\, N4063 W243 Pewaukee Rd\, Pewaukee\, WI\, 53072\, United States
CATEGORIES:MilanaCommittee
ATTACH;FMTTYPE=image/png:https://www.milanaonline.org/cms/wp-content/uploads/2018/10/Milana_deepavali_2018.png
ORGANIZER;CN="Milana Committee":MAILTO:milanacommittee@gmail.com
END:VEVENT
BEGIN:VEVENT
DTSTART;TZID=America/Chicago:20181014T150000
DTEND;TZID=America/Chicago:20181014T180000
DTSTAMP:20260420T082535
CREATED:20181009T210659Z
LAST-MODIFIED:20181009T210819Z
UID:1159-1539529200-1539540000@www.milanaonline.org
SUMMARY:Indian Classical Sitar Concert
DESCRIPTION:Dear Milana Music Lovers & Enthusiasts\,\n\n\nNamaskara\,\n\nWe are pleased to inform you that our own Dr. Kumar Hadimani will be performing along with his guru Pandit Arup Ratan Mukherjee in a Indian Classical Sitar Concert on Sunday\, 14 Oct 2018 from 3.00 PM to 6.00 PM at the Multipurpose hall\, Hindu Temple of Wisconsin\, Pewaukee\, WI 53072.\n\n\nKindly note\, this is a free event. However donations are welcome.\n\nWe encourage you to grace the occasion in large numbers and motivate Dr. Hadimani.\n\nWishing Dr. Hadimani all the best and hope he keeps enthralling us with many more such performances in future.\n\n\nThank you
URL:https://www.milanaonline.org/event/indian-classical-sitar-concert/
LOCATION:Hindu Temple of Wisconsin\, N4063 W243 Pewaukee Rd\, Pewaukee\, WI\, 53072\, United States
CATEGORIES:MilanaMembers
ATTACH;FMTTYPE=image/png:https://www.milanaonline.org/cms/wp-content/uploads/2018/10/IndianClassicalSitarConcert-.png
END:VEVENT
END:VCALENDAR