BEGIN:VCALENDAR
VERSION:2.0
PRODID:-//ಮಿಲನ ಕನ್ನಡ ಕೂಟ (Milana Kannada Koota) - ECPv6.7.1//NONSGML v1.0//EN
CALSCALE:GREGORIAN
METHOD:PUBLISH
X-WR-CALNAME:ಮಿಲನ ಕನ್ನಡ ಕೂಟ (Milana Kannada Koota)
X-ORIGINAL-URL:https://www.milanaonline.org
X-WR-CALDESC:Events for ಮಿಲನ ಕನ್ನಡ ಕೂಟ (Milana Kannada Koota)
REFRESH-INTERVAL;VALUE=DURATION:PT1H
X-Robots-Tag:noindex
X-PUBLISHED-TTL:PT1H
BEGIN:VTIMEZONE
TZID:America/Chicago
BEGIN:DAYLIGHT
TZOFFSETFROM:-0600
TZOFFSETTO:-0500
TZNAME:CDT
DTSTART:20230312T080000
END:DAYLIGHT
BEGIN:STANDARD
TZOFFSETFROM:-0500
TZOFFSETTO:-0600
TZNAME:CST
DTSTART:20231105T070000
END:STANDARD
END:VTIMEZONE
BEGIN:VEVENT
DTSTART;TZID=America/Chicago:20230722T103000
DTEND;TZID=America/Chicago:20230722T153000
DTSTAMP:20260421T151005
CREATED:20230515T012158Z
LAST-MODIFIED:20230515T012158Z
UID:2172-1690021800-1690039800@www.milanaonline.org
SUMMARY:Milana Summer Picnic
DESCRIPTION:More details coming soon \nPlace: Naga-Waukee Park (Address: 651 WI-83\, Hartland\, WI 53029)
URL:https://www.milanaonline.org/event/milana-summer-picnic/
CATEGORIES:MilanaCommittee
END:VEVENT
END:VCALENDAR