BEGIN:VCALENDAR
VERSION:2.0
PRODID:-//ಮಿಲನ ಕನ್ನಡ ಕೂಟ (Milana Kannada Koota) - ECPv6.7.1//NONSGML v1.0//EN
CALSCALE:GREGORIAN
METHOD:PUBLISH
X-WR-CALNAME:ಮಿಲನ ಕನ್ನಡ ಕೂಟ (Milana Kannada Koota)
X-ORIGINAL-URL:https://www.milanaonline.org
X-WR-CALDESC:Events for ಮಿಲನ ಕನ್ನಡ ಕೂಟ (Milana Kannada Koota)
REFRESH-INTERVAL;VALUE=DURATION:PT1H
X-Robots-Tag:noindex
X-PUBLISHED-TTL:PT1H
BEGIN:VTIMEZONE
TZID:America/Chicago
BEGIN:DAYLIGHT
TZOFFSETFROM:-0600
TZOFFSETTO:-0500
TZNAME:CDT
DTSTART:20230312T080000
END:DAYLIGHT
BEGIN:STANDARD
TZOFFSETFROM:-0500
TZOFFSETTO:-0600
TZNAME:CST
DTSTART:20231105T070000
END:STANDARD
END:VTIMEZONE
BEGIN:VEVENT
DTSTART;TZID=America/Chicago:20230409T153000
DTEND;TZID=America/Chicago:20230409T203000
DTSTAMP:20260421T200543
CREATED:20230308T220938Z
LAST-MODIFIED:20230408T054049Z
UID:2122-1681054200-1681072200@www.milanaonline.org
SUMMARY:MILANA UGADI 2023 CELEBRATIONS
DESCRIPTION:We would like to invite you to Milana Ugadi celebrations on Sunday\, 09 April 2023.We request your presence at the event and also please help us promote the event to others in and around Milwaukee. \n\nOnline Payments for the event fees: Click here to view the fees and pay online. \neVite to the event for RSVP: http://evite.me/shFDWxReWh \nCultural events sign-up: https://www.signupgenius.com/go/70A084FAFA923A3FB6-milana3 \nSchedule: 3:30 PM to 8:30 PM \nWe are looking for sponsors for this Ugadi festival. Various sponsorships available. Click here to view the sponsorship options. \nPlease support Milana Kannada Koota by attending and sharing with your other Kannada friends. \n \n \n  \nONLINE PAYMENT FOR THE EVENT \nWant to become a Milana member? Pay membership at ಸದಸ್ಯತ್ವ/MEMBERSHIP – ಮಿಲನ ಕನ್ನಡ ಕೂಟ (Milana Kannada Koota) (milanaonline.org) \n\n                \n                \n                            \n                    \n        \n\n                        Event Fee\n\n\n\n        \n            \n\n\n\nNon-Member Prices\n	Adult $20.00 USD\n	Kids $5.00 USD\n	Family $45.00 USD\n \n\n\n\n\n        \n            \n            \nIf you need to buy more than one ticket (with the options provided)\, you can select the option one at a time\, click Add to cart (opens PayPal page)\, re-visit the Milana page and then buy at once.  \n        \n    \n    \n                    \n                \n    \n    \n\n\n  \n \n  \nSPONSORSHIP OPTIONS FOR THE UGADI EVENT \nGold and Platinum sponsors gets FREE admission to the Ugadi event (please don’t buy the event tickets if you are in this category of sponsorship). \n\n                \n                \n                            \n                    \n        \n\n                        Sponsorship Options (Please select)\n\n\n\n        \n            \n\n\n\nUgadi 2023 Sponsorship\n	Silver $101.00 USD\n	Gold $251.00 USD\n	Platinum $501.00 USD\n \n\n\n\n\n        \n    \n    \n                    \n                                \n                \n    \n    \n\n\n  \nAlternatively sponsorship payment can be sent via Zelle which will save money to Milana by avoiding PayPal fee. Please scan following QR code on your phone to send money via Zelle or send to milana.treasurer@gmail.com  \n \n\n 
URL:https://www.milanaonline.org/event/milana-ugadi-2023-celebrations/
LOCATION:Hindu Temple of Wisconsin\, N4063 W243 Pewaukee Rd\, Pewaukee\, WI\, 53072\, United States
CATEGORIES:MilanaCommittee
ORGANIZER;CN="Milana Committee":MAILTO:milanacommittee@gmail.com
END:VEVENT
END:VCALENDAR