BEGIN:VCALENDAR
VERSION:2.0
PRODID:-//ಮಿಲನ ಕನ್ನಡ ಕೂಟ (Milana Kannada Koota) - ECPv6.7.1//NONSGML v1.0//EN
CALSCALE:GREGORIAN
METHOD:PUBLISH
X-ORIGINAL-URL:https://www.milanaonline.org
X-WR-CALDESC:Events for ಮಿಲನ ಕನ್ನಡ ಕೂಟ (Milana Kannada Koota)
REFRESH-INTERVAL;VALUE=DURATION:PT1H
X-Robots-Tag:noindex
X-PUBLISHED-TTL:PT1H
BEGIN:VTIMEZONE
TZID:America/Chicago
BEGIN:DAYLIGHT
TZOFFSETFROM:-0600
TZOFFSETTO:-0500
TZNAME:CDT
DTSTART:20220313T080000
END:DAYLIGHT
BEGIN:STANDARD
TZOFFSETFROM:-0500
TZOFFSETTO:-0600
TZNAME:CST
DTSTART:20221106T070000
END:STANDARD
END:VTIMEZONE
BEGIN:VEVENT
DTSTART;TZID=America/Chicago:20221112T150000
DTEND;TZID=America/Chicago:20221112T210000
DTSTAMP:20260422T044547
CREATED:20221020T221622Z
LAST-MODIFIED:20221027T032552Z
UID:1974-1668265200-1668286800@www.milanaonline.org
SUMMARY:Milana Deepavali ದೀಪಾವಳಿ Habba\, Rajyotsava Celebration 2022
DESCRIPTION:MILANA DEEPAVALI\, RAJYOTSAVA CELEBRATION – 2022\nNamaskara \nಮಿಲನ ಕನ್ನಡಿಗರಿಗೆ  ದೀಪಾವಳಿ ಹಬ್ಬದ ಶುಭಾಶಯಗಳು \nMilana Kannada Koota will be conducting it’s Deepavali Habba on NOV 12 2022 (Saturday) afternoon. Performances by Milwaukee Kannadigas followed by a musical concert by Drums Manju and team \nVenue: West Milwaukee Middle School 5104 W Greenfield Ave\, Milwaukee\, WI 53214 \nPay online for the Deepavali Habba entrance fee\n  \nIf you have any questions please contact the committee at milanacommittee@gmail.com \nSponsorship options available. Please contact the committee at milanacommittee@gmail.com \nAnyone interested in volunteering or sponsoring for food\, event or prizes please contact the committee at milanacommittee@gmail.com \n\nEvite to the event for RSVP: http://evite.me/YvZSZCYeYH\n \nCultural program signups: https://www.signupgenius.com/go/70A084FAFA923A3FB6-deepavali3 \nOnline Payments for the event fees: Click here or Scroll to the bottom to view the fee structure and payment options \nSchedule: 3 PM- 9:00 PM  (Tea and snacks at 4:30 pm. Dinner at 8 pm.)\n \n\n \nSPONSORSHIP DETAILS\n\nSponsorship options for the event/food available. For Sponsorships\, Please reach out to the committee on milanacommittee@gmail.com or please consider making donations on Milana website https://www.milanaonline.org\n \n \nONLINE PAYMENT\n\nEntry Fee for the event: \nMembers : Adult – 15$\, Child – 5$\, Family – 35$ \nNon- Members : Adult – 20$\, Child – 10$\, Family – 45$ \n\n                \n                \n                            \n                            \n                    \n        \n\n                                        Members FeeNon-Members Fee\n\n\n\n        \n            \n\n\n\nMember Prices\n	Adult $15.00 USD\n	Kids $5.00 USD\n	Family $35.00 USD\n \n\n\n\n\n\n\n\n\nNon - Member Prices\n	Adult $20.00 USD\n	Kids $5.00 USD\n	Family $45.00 USD
URL:https://www.milanaonline.org/event/milana-deepavali-habba-2022/
LOCATION:West Milwaukee Middle School\, 5104 W Greenfield Ave\, Milwaukee\, WI\, 53214
CATEGORIES:MilanaCommittee
ORGANIZER;CN="Milana Committee":MAILTO:milanacommittee@gmail.com
END:VEVENT
END:VCALENDAR