BEGIN:VCALENDAR
VERSION:2.0
PRODID:-//ಮಿಲನ ಕನ್ನಡ ಕೂಟ (Milana Kannada Koota) - ECPv6.7.1//NONSGML v1.0//EN
CALSCALE:GREGORIAN
METHOD:PUBLISH
X-WR-CALNAME:ಮಿಲನ ಕನ್ನಡ ಕೂಟ (Milana Kannada Koota)
X-ORIGINAL-URL:https://www.milanaonline.org
X-WR-CALDESC:Events for ಮಿಲನ ಕನ್ನಡ ಕೂಟ (Milana Kannada Koota)
REFRESH-INTERVAL;VALUE=DURATION:PT1H
X-Robots-Tag:noindex
X-PUBLISHED-TTL:PT1H
BEGIN:VTIMEZONE
TZID:America/Chicago
BEGIN:DAYLIGHT
TZOFFSETFROM:-0600
TZOFFSETTO:-0500
TZNAME:CDT
DTSTART:20210314T080000
END:DAYLIGHT
BEGIN:STANDARD
TZOFFSETFROM:-0500
TZOFFSETTO:-0600
TZNAME:CST
DTSTART:20211107T070000
END:STANDARD
END:VTIMEZONE
BEGIN:VEVENT
DTSTART;TZID=America/Chicago:20211204T170000
DTEND;TZID=America/Chicago:20211204T203000
DTSTAMP:20260423T031225
CREATED:20211122T202406Z
LAST-MODIFIED:20211123T124527Z
UID:1875-1638637200-1638649800@www.milanaonline.org
SUMMARY:Milana Deepavali ದೀಪಾವಳಿ Habba\, Rajyotsava Celebration 2021
DESCRIPTION:MILANA DEEPAVALI – RAJYOTSAVA 2021\nNamaskara \nಮಿಲನ ಕನ್ನಡಿಗರಿಗೆ  ದೀಪಾವಳಿ ಹಬ್ಬದ ಶುಭಾಶಯಗಳು \nMilana Kannada Koota will be conducting it’s Deepavali Habba on 12/04/2021 (Saturday) afternoon. \nVenue: Hindu emple of Wisconsin\, N4063 W243 Pewaukee Rd\, Pewaukee\, WI53072 \nClick here to Pay online for the Deepavali Habba entrance fee\n \nIf you have any questions please contact the committee at milanacommittee@gmail.com \nSponsorship options available. Please contact the committee at milanacommittee@gmail.com \nAnyone interested in volunteering or sponsoring for food\, event or prizes please contact the committee at milanacommittee@gmail.com \n\nEvite to the event for RSVP: https://www.evite.com/event/0279AFMB6HON4MSFKEPMIW22DQOFJI\n \nCultural program signups: https://www.signupgenius.com/go/70A084FAFA923A3FB6-milana1 \nOnline Payments for the event fees: Click here or Scroll to the bottom to view the fee structure and payment options \nSchedule: 5 PM- 8:30 PM\n \n\n \nONLINE PAYMENT\n\n\n                \n                \n                            \n                            \n                    \n        \n\n                                        Members FeeNon-Members Fee\n\n\n\n        \n            \n\n\n\nMember Prices\nMember - Adult $10.00 USD\nMember - Kids $5.00 USD\nMember - Family $25.00 USD\n \n\n\n\n\n\n\n\n\nMember Prices\nNon Member - Adult $15.00 USD\nNon Member - Kids $5.00 USD\nNon Member - Family $35.00 USD\n \n\n\n\n\n        \n            \n             \nIf you need to buy more than one ticket (with the options provided)\, you can use below options to Add to cart and then buy at once. \n\n\n\nMember Prices\n\n\n\nAdult $10.00 USD\nKids $5.00 USD\nFamily $25.00 USD\n\n\n\n\n   \nIf you need to buy more than one ticket (with the options provided)\, you can use below options to Add to cart and then buy at once. \n\n\n\nNon-Member Prices\n\n\n\nAdult $15.00 USD\nKids $5.00 USD\nFamily $35.00 USD\n\n\n\n\n          \n    \n    \n                    \n                \n    \n    \n\n\n \n 
URL:https://www.milanaonline.org/event/milana-deepavali-%e0%b2%a6%e0%b3%80%e0%b2%aa%e0%b2%be%e0%b2%b5%e0%b2%b3%e0%b2%bf-habba-rajyotsava-celebration-2021/
LOCATION:Hindu Temple of Wisconsin\, N4063 W243 Pewaukee Rd\, Pewaukee\, WI\, 53072\, United States
CATEGORIES:MilanaCommittee
ORGANIZER;CN="Milana Committee":MAILTO:milanacommittee@gmail.com
END:VEVENT
END:VCALENDAR